BEGIN:VCALENDAR
VERSION:2.0
PRODID:-//Vespa Club Locarno - ECPv6.15.16//NONSGML v1.0//EN
CALSCALE:GREGORIAN
METHOD:PUBLISH
X-ORIGINAL-URL:https://vespaclublocarno.ch
X-WR-CALDESC:Eventi per Vespa Club Locarno
REFRESH-INTERVAL;VALUE=DURATION:PT1H
X-Robots-Tag:noindex
X-PUBLISHED-TTL:PT1H
BEGIN:VTIMEZONE
TZID:Europe/Zurich
BEGIN:DAYLIGHT
TZOFFSETFROM:+0100
TZOFFSETTO:+0200
TZNAME:CEST
DTSTART:20170326T010000
END:DAYLIGHT
BEGIN:STANDARD
TZOFFSETFROM:+0200
TZOFFSETTO:+0100
TZNAME:CET
DTSTART:20171029T010000
END:STANDARD
BEGIN:DAYLIGHT
TZOFFSETFROM:+0100
TZOFFSETTO:+0200
TZNAME:CEST
DTSTART:20180325T010000
END:DAYLIGHT
BEGIN:STANDARD
TZOFFSETFROM:+0200
TZOFFSETTO:+0100
TZNAME:CET
DTSTART:20181028T010000
END:STANDARD
BEGIN:DAYLIGHT
TZOFFSETFROM:+0100
TZOFFSETTO:+0200
TZNAME:CEST
DTSTART:20190331T010000
END:DAYLIGHT
BEGIN:STANDARD
TZOFFSETFROM:+0200
TZOFFSETTO:+0100
TZNAME:CET
DTSTART:20191027T010000
END:STANDARD
END:VTIMEZONE
BEGIN:VEVENT
DTSTART;VALUE=DATE:20180408
DTEND;VALUE=DATE:20180409
DTSTAMP:20260422T153258
CREATED:20210430T201053Z
LAST-MODIFIED:20210707T065756Z
UID:30048-1523145600-1523231999@vespaclublocarno.ch
SUMMARY:Presentazione del programma 2018
DESCRIPTION:
URL:https://vespaclublocarno.ch/event/presentazione-del-programma-2018/
LOCATION:Losone\, Losone\, 6616
ATTACH;FMTTYPE=image/jpeg:https://vespaclublocarno.ch/wp-content/uploads/2021/04/FSWH4165.jpg
END:VEVENT
BEGIN:VEVENT
DTSTART;VALUE=DATE:20180415
DTEND;VALUE=DATE:20180416
DTSTAMP:20260422T153258
CREATED:20210430T200600Z
LAST-MODIFIED:20210430T200600Z
UID:30041-1523750400-1523836799@vespaclublocarno.ch
SUMMARY:Mostra scambio di Osnago
DESCRIPTION:
URL:https://vespaclublocarno.ch/event/mostra-scambio-di-osnago/
LOCATION:Osnago\, Osnago\, 23870\, Italia
ATTACH;FMTTYPE=image/jpeg:https://vespaclublocarno.ch/wp-content/uploads/2021/04/NGSY1587.jpg
END:VEVENT
BEGIN:VEVENT
DTSTART;VALUE=DATE:20180422
DTEND;VALUE=DATE:20180423
DTSTAMP:20260422T153258
CREATED:20210430T200204Z
LAST-MODIFIED:20210430T200204Z
UID:30025-1524355200-1524441599@vespaclublocarno.ch
SUMMARY:Raduno di Omegna
DESCRIPTION:
URL:https://vespaclublocarno.ch/event/raduno-di-omegna/
LOCATION:Omegna\, Omegna\, 28887\, Italia
ATTACH;FMTTYPE=image/jpeg:https://vespaclublocarno.ch/wp-content/uploads/2021/04/IMG_3284.jpg
END:VEVENT
BEGIN:VEVENT
DTSTART;VALUE=DATE:20180427
DTEND;VALUE=DATE:20180430
DTSTAMP:20260422T153258
CREATED:20210430T194916Z
LAST-MODIFIED:20210430T194916Z
UID:29989-1524787200-1525046399@vespaclublocarno.ch
SUMMARY:Food & Truck Festival di Locarno
DESCRIPTION:
URL:https://vespaclublocarno.ch/event/food-truck-festival-di-locarno-2/
LOCATION:Locarno\, Via Alla Peschiera 9\, Locarno\, 6600\, Svizzera
ATTACH;FMTTYPE=image/jpeg:https://vespaclublocarno.ch/wp-content/uploads/2021/04/IMG_5239.jpg
END:VEVENT
END:VCALENDAR