BEGIN:VCALENDAR
VERSION:2.0
PRODID:-//Vespa Club Locarno - ECPv6.15.16//NONSGML v1.0//EN
CALSCALE:GREGORIAN
METHOD:PUBLISH
X-WR-CALNAME:Vespa Club Locarno
X-ORIGINAL-URL:https://vespaclublocarno.ch
X-WR-CALDESC:Eventi per Vespa Club Locarno
REFRESH-INTERVAL;VALUE=DURATION:PT1H
X-Robots-Tag:noindex
X-PUBLISHED-TTL:PT1H
BEGIN:VTIMEZONE
TZID:Europe/Zurich
BEGIN:DAYLIGHT
TZOFFSETFROM:+0100
TZOFFSETTO:+0200
TZNAME:CEST
DTSTART:20170326T010000
END:DAYLIGHT
BEGIN:STANDARD
TZOFFSETFROM:+0200
TZOFFSETTO:+0100
TZNAME:CET
DTSTART:20171029T010000
END:STANDARD
BEGIN:DAYLIGHT
TZOFFSETFROM:+0100
TZOFFSETTO:+0200
TZNAME:CEST
DTSTART:20180325T010000
END:DAYLIGHT
BEGIN:STANDARD
TZOFFSETFROM:+0200
TZOFFSETTO:+0100
TZNAME:CET
DTSTART:20181028T010000
END:STANDARD
BEGIN:DAYLIGHT
TZOFFSETFROM:+0100
TZOFFSETTO:+0200
TZNAME:CEST
DTSTART:20190331T010000
END:DAYLIGHT
BEGIN:STANDARD
TZOFFSETFROM:+0200
TZOFFSETTO:+0100
TZNAME:CET
DTSTART:20191027T010000
END:STANDARD
END:VTIMEZONE
BEGIN:VEVENT
DTSTART;VALUE=DATE:20180812
DTEND;VALUE=DATE:20180813
DTSTAMP:20260421T103718
CREATED:20210430T190414Z
LAST-MODIFIED:20210501T181523Z
UID:29783-1534032000-1534118399@vespaclublocarno.ch
SUMMARY:Raduno Piaggio di Porlezza
DESCRIPTION:con la visita del museo privato di moto di Piero Mussio a Carlazzo
URL:https://vespaclublocarno.ch/event/porlezza-12-08-2018/
LOCATION:Porlezza\, Porlezza\, 22018\, Italia
ATTACH;FMTTYPE=image/jpeg:https://vespaclublocarno.ch/wp-content/uploads/2021/04/APE.jpg
END:VEVENT
BEGIN:VEVENT
DTSTART;VALUE=DATE:20180827
DTEND;VALUE=DATE:20180828
DTSTAMP:20260421T103718
CREATED:20210430T185637Z
LAST-MODIFIED:20210430T185637Z
UID:29780-1535328000-1535414399@vespaclublocarno.ch
SUMMARY:La Belvedere
DESCRIPTION:
URL:https://vespaclublocarno.ch/event/la-belvedere/
LOCATION:Mendrisio\, Svizzera
ATTACH;FMTTYPE=image/jpeg:https://vespaclublocarno.ch/wp-content/uploads/2021/04/85a9d1a3-756b-420d-b3e1-d1fc24fdefef.jpg
END:VEVENT
END:VCALENDAR