BEGIN:VCALENDAR
VERSION:2.0
PRODID:-//Vespa Club Locarno - ECPv6.15.16//NONSGML v1.0//EN
CALSCALE:GREGORIAN
METHOD:PUBLISH
X-WR-CALNAME:Vespa Club Locarno
X-ORIGINAL-URL:https://vespaclublocarno.ch
X-WR-CALDESC:Eventi per Vespa Club Locarno
REFRESH-INTERVAL;VALUE=DURATION:PT1H
X-Robots-Tag:noindex
X-PUBLISHED-TTL:PT1H
BEGIN:VTIMEZONE
TZID:Europe/Zurich
BEGIN:DAYLIGHT
TZOFFSETFROM:+0100
TZOFFSETTO:+0200
TZNAME:CEST
DTSTART:20170326T010000
END:DAYLIGHT
BEGIN:STANDARD
TZOFFSETFROM:+0200
TZOFFSETTO:+0100
TZNAME:CET
DTSTART:20171029T010000
END:STANDARD
BEGIN:DAYLIGHT
TZOFFSETFROM:+0100
TZOFFSETTO:+0200
TZNAME:CEST
DTSTART:20180325T010000
END:DAYLIGHT
BEGIN:STANDARD
TZOFFSETFROM:+0200
TZOFFSETTO:+0100
TZNAME:CET
DTSTART:20181028T010000
END:STANDARD
BEGIN:DAYLIGHT
TZOFFSETFROM:+0100
TZOFFSETTO:+0200
TZNAME:CEST
DTSTART:20190331T010000
END:DAYLIGHT
BEGIN:STANDARD
TZOFFSETFROM:+0200
TZOFFSETTO:+0100
TZNAME:CET
DTSTART:20191027T010000
END:STANDARD
END:VTIMEZONE
BEGIN:VEVENT
DTSTART;VALUE=DATE:20181107
DTEND;VALUE=DATE:20181112
DTSTAMP:20260421T012816
CREATED:20210430T184647Z
LAST-MODIFIED:20210430T184655Z
UID:29756-1541548800-1541980799@vespaclublocarno.ch
SUMMARY:EspoVerbano
DESCRIPTION:
URL:https://vespaclublocarno.ch/event/espoverbano/
ATTACH;FMTTYPE=image/jpeg:https://vespaclublocarno.ch/wp-content/uploads/2021/04/IMG_6847.jpg
END:VEVENT
BEGIN:VEVENT
DTSTART;VALUE=DATE:20181117
DTEND;VALUE=DATE:20181118
DTSTAMP:20260421T012816
CREATED:20210430T184038Z
LAST-MODIFIED:20210430T184219Z
UID:29750-1542412800-1542499199@vespaclublocarno.ch
SUMMARY:ASG VCS con visita al museo Saurer
DESCRIPTION:
URL:https://vespaclublocarno.ch/event/asg-vcs-con-visita-al-museo-saurer/
LOCATION:Arbon\, Weitegasse 8\, Arbon\, 9320\, Svizzera
ATTACH;FMTTYPE=image/jpeg:https://vespaclublocarno.ch/wp-content/uploads/2021/04/IMG_6953.jpg
END:VEVENT
END:VCALENDAR